{
 "currentVersion": 11.3,
 "serviceDescription": "Imagery/2012_Aerial_Imagery",
 "name": "Imagery/2012_Aerial_Imagery",
 "description": "",
 "extent": {
  "xmin": 2157500,
  "ymin": 1410000,
  "xmax": 2217500,
  "ymax": 1470000,
  "spatialReference": {
   "wkid": 102667,
   "latestWkid": 2240
  }
 },
 "initialExtent": {
  "xmin": 2157500,
  "ymin": 1410000,
  "xmax": 2217500,
  "ymax": 1470000,
  "spatialReference": {
   "wkid": 102667,
   "latestWkid": 2240
  }
 },
 "fullExtent": {
  "xmin": 2157500,
  "ymin": 1410000,
  "xmax": 2217500,
  "ymax": 1470000,
  "spatialReference": {
   "wkid": 102667,
   "latestWkid": 2240
  }
 },
 "sortableFields": "",
 "bandCount": 3,
 "pixelType": "U8",
 "minValues": [
  13,
  27,
  7
 ],
 "maxValues": [
  255,
  255,
  255
 ],
 "meanValues": [
  133.36857224935,
  129.96897443263,
  108.19046251077
 ],
 "stdvValues": [
  53.386898283225,
  54.15571898388,
  62.13166493208
 ],
 "hasMultidimensions": false,
 "pixelSizeX": 0.5,
 "pixelSizeY": 0.5,
 "meanPixelSize": 0.15240030480060962,
 "datasetFormat": "MrSID",
 "uncompressedSize": 43200000000,
 "blockWidth": 1024,
 "blockHeight": 128,
 "compressionType": "Wavelet (MG3)",
 "bandNames": [
  "Band_1",
  "Band_2",
  "Band_3"
 ],
 "allowCopy": true,
 "allowAnalysis": true,
 "itemAccess": false,
 "inspectionCapabilities": "",
 "minPixelSize": 0,
 "maxPixelSize": 0,
 "copyrightText": "",
 "serviceDataType": "esriImageServiceDataTypeRGB",
 "serviceSourceType": "esriImageServiceSourceTypeDataset",
 "objectIdField": "",
 "fields": [],
 "capabilities": "Image,Metadata,Mensuration",
 "defaultMosaicMethod": "Center",
 "allowedMosaicMethods": "",
 "sortField": "",
 "sortValue": null,
 "sortAscending": true,
 "mosaicOperator": "First",
 "defaultCompressionQuality": 90,
 "defaultResamplingMethod": "Bicubic",
 "maxImageHeight": 4100,
 "maxImageWidth": 15000,
 "allowRasterFunction": true,
 "rasterFunctionInfos": [
  {
   "name": "None",
   "description": "",
   "help": ""
  }
 ],
 "rasterTypeInfos": [
  {
   "name": "Raster Dataset",
   "description": "Supports all ArcGIS Raster Datasets",
   "help": ""
  }
 ],
 "mensurationCapabilities": "Basic",
 "hasHistograms": true,
 "hasColormap": false,
 "hasRasterAttributeTable": false,
 "minScale": 0,
 "maxScale": 0,
 "exportTilesAllowed": false,
 "supportsStatistics": false,
 "supportsAdvancedQueries": false,
 "editFieldsInfo": null,
 "ownershipBasedAccessControlForRasters": null,
 "allowComputeTiePoints": false,
 "useStandardizedQueries": true,
 "advancedQueryCapabilities": {
  "useStandardizedQueries": true,
  "supportsStatistics": false,
  "supportsOrderBy": false,
  "supportsDistinct": false,
  "supportsPagination": false
 },
 "spatialReference": {
  "wkid": 102667,
  "latestWkid": 2240
 }
}
