{
 "currentVersion": 11.3,
 "serviceDescription": "Imagery/2018_Aerial_Imagery",
 "name": "Imagery/2018_Aerial_Imagery",
 "description": "",
 "extent": {
  "xmin": 2157500,
  "ymin": 1410000,
  "xmax": 2217500,
  "ymax": 1470000,
  "spatialReference": {
   "wkid": 102667,
   "latestWkid": 2240
  }
 },
 "initialExtent": {
  "xmin": 2157500,
  "ymin": 1410000,
  "xmax": 2217500,
  "ymax": 1470000,
  "spatialReference": {
   "wkid": 102667,
   "latestWkid": 2240
  }
 },
 "fullExtent": {
  "xmin": 2157500,
  "ymin": 1410000,
  "xmax": 2217500,
  "ymax": 1470000,
  "spatialReference": {
   "wkid": 102667,
   "latestWkid": 2240
  }
 },
 "sortableFields": "",
 "bandCount": 4,
 "pixelType": "U8",
 "minValues": [
  51,
  43,
  25,
  0
 ],
 "maxValues": [
  255,
  255,
  255,
  255
 ],
 "meanValues": [
  141.1921861534,
  133.39212869865,
  119.73858086757,
  219.28957196208
 ],
 "stdvValues": [
  48.904994482553,
  51.519323190164,
  56.646928359414,
  87.762751326435
 ],
 "hasMultidimensions": false,
 "pixelSizeX": 0.25,
 "pixelSizeY": 0.25,
 "meanPixelSize": 0.07620015240030481,
 "datasetFormat": "MrSID",
 "uncompressedSize": 230400000000,
 "blockWidth": 1024,
 "blockHeight": 128,
 "compressionType": "Wavelet (MG4)",
 "bandNames": [
  "Band_1",
  "Band_2",
  "Band_3",
  "Band_4"
 ],
 "allowCopy": true,
 "allowAnalysis": true,
 "itemAccess": false,
 "inspectionCapabilities": "",
 "minPixelSize": 0,
 "maxPixelSize": 0,
 "copyrightText": "",
 "serviceDataType": "esriImageServiceDataTypeGeneric",
 "serviceSourceType": "esriImageServiceSourceTypeDataset",
 "objectIdField": "",
 "fields": [],
 "capabilities": "Image,Metadata,Mensuration",
 "defaultMosaicMethod": "Center",
 "allowedMosaicMethods": "",
 "sortField": "",
 "sortValue": null,
 "sortAscending": true,
 "mosaicOperator": "First",
 "defaultCompressionQuality": 75,
 "defaultResamplingMethod": "Bicubic",
 "maxImageHeight": 4100,
 "maxImageWidth": 15000,
 "allowRasterFunction": true,
 "rasterFunctionInfos": [
  {
   "name": "None",
   "description": "",
   "help": ""
  }
 ],
 "rasterTypeInfos": [
  {
   "name": "Raster Dataset",
   "description": "Supports all ArcGIS Raster Datasets",
   "help": ""
  }
 ],
 "mensurationCapabilities": "Basic",
 "hasHistograms": true,
 "hasColormap": false,
 "hasRasterAttributeTable": false,
 "minScale": 0,
 "maxScale": 0,
 "exportTilesAllowed": false,
 "supportsStatistics": false,
 "supportsAdvancedQueries": false,
 "editFieldsInfo": null,
 "ownershipBasedAccessControlForRasters": null,
 "allowComputeTiePoints": false,
 "useStandardizedQueries": true,
 "advancedQueryCapabilities": {
  "useStandardizedQueries": true,
  "supportsStatistics": false,
  "supportsOrderBy": false,
  "supportsDistinct": false,
  "supportsPagination": false
 },
 "spatialReference": {
  "wkid": 102667,
  "latestWkid": 2240
 }
}
