{
 "currentVersion": 11.5,
 "serviceDescription": "Imagery/2020_Aerial_Imagery",
 "serviceItemId": "a5f8a761d2664644bef7e0955420c90f",
 "name": "Imagery/2020_Aerial_Imagery",
 "description": "",
 "extent": {
  "xmin": 2157500,
  "ymin": 1410000,
  "xmax": 2217500,
  "ymax": 1470000,
  "spatialReference": {
   "wkid": 102667,
   "latestWkid": 2240
  }
 },
 "initialExtent": {
  "xmin": 2157500,
  "ymin": 1410000,
  "xmax": 2217500,
  "ymax": 1470000,
  "spatialReference": {
   "wkid": 102667,
   "latestWkid": 2240
  }
 },
 "fullExtent": {
  "xmin": 2157500,
  "ymin": 1410000,
  "xmax": 2217500,
  "ymax": 1470000,
  "spatialReference": {
   "wkid": 102667,
   "latestWkid": 2240
  }
 },
 "sortableFields": "",
 "bandCount": 4,
 "pixelType": "U8",
 "minValues": [
  51,
  50,
  27,
  0
 ],
 "maxValues": [
  255,
  255,
  255,
  255
 ],
 "meanValues": [
  141.445848894,
  137.42832519391,
  119.79948290721,
  219.20195346165
 ],
 "stdvValues": [
  48.728769469447,
  49.800216686835,
  56.426047981902,
  87.728189796063
 ],
 "serviceProperties": "Center<\/MosaicMethod>First<\/MosaicOperator>true<\/SortAscending><\/LockImageID><\/TileOrderField>0<\/TileOrderBase>0.000000<\/AvgImageSpacingX>0.000000<\/AvgImageSpacingY>0.0<\/ViewPointX>0.0<\/ViewPointY>0.0<\/ViewPointDefShiftX>0.0<\/ViewPointDefShiftY>JPEG<\/CompressionMethod>90<\/CompressionQuality>0.010000<\/CompressionTolerance>Bicubic<\/SamplingMethod><\/ImageServiceProperties><\/ImageServer>",
 "allowedFields": "",
 "hasMultidimensions": false,
 "pixelSizeX": 0.25,
 "pixelSizeY": 0.25,
 "meanPixelSize": 0.07620015240030481,
 "datasetFormat": "MrSID",
 "uncompressedSize": 230400000000,
 "blockWidth": 1024,
 "blockHeight": 128,
 "compressionType": "Wavelet (MG4)",
 "bandNames": [
  "Band_1",
  "Band_2",
  "Band_3",
  "Band_4"
 ],
 "allowCopy": true,
 "allowAnalysis": true,
 "itemAccess": false,
 "inspectionCapabilities": "",
 "minPixelSize": 0,
 "maxPixelSize": 0,
 "copyrightText": "",
 "serviceDataType": "esriImageServiceDataTypeGeneric",
 "serviceSourceType": "esriImageServiceSourceTypeDataset",
 "objectIdField": "",
 "fields": [],
 "capabilities": "Mensuration,Image,Metadata",
 "defaultMosaicMethod": "Center",
 "allowedMosaicMethods": "",
 "sortField": "",
 "sortValue": null,
 "sortAscending": true,
 "mosaicOperator": "First",
 "defaultCompressionQuality": 90,
 "defaultResamplingMethod": "Bicubic",
 "maxImageHeight": 4100,
 "maxImageWidth": 15000,
 "allowRasterFunction": true,
 "rasterFunctionInfos": [
  {
   "name": "None",
   "description": "",
   "help": ""
  }
 ],
 "rasterTypeInfos": [
  {
   "name": "Raster Dataset",
   "description": "Supports all ArcGIS Raster Datasets",
   "help": ""
  }
 ],
 "mensurationCapabilities": "Basic",
 "hasHistograms": true,
 "hasColormap": false,
 "hasRasterAttributeTable": false,
 "minScale": 288382.88168565964,
 "maxScale": 281.623907896152,
 "minLOD": 10,
 "maxLOD": 20,
 "exportTilesAllowed": false,
 "supportsStatistics": false,
 "supportsAdvancedQueries": false,
 "editFieldsInfo": null,
 "ownershipBasedAccessControlForRasters": null,
 "allowComputeTiePoints": false,
 "useStandardizedQueries": true,
 "advancedQueryCapabilities": {
  "useStandardizedQueries": true,
  "supportsStatistics": false,
  "supportsOrderBy": false,
  "supportsDistinct": false,
  "supportsPagination": false
 },
 "spatialReference": {
  "wkid": 102667,
  "latestWkid": 2240
 },
 "resampling": false
}
