View In:
ArcGIS JavaScript
ArcGIS Online Map Viewer
ArcGIS Earth
Service Description: Imagery/1997_Aerial_Imagery
Name: Imagery/1997_Aerial_Imagery
Description:
Single Fused Map Cache: false
Extent:
XMin: 2145000.0000000005
YMin: 1415000.0000000002
XMax: 2215000.0000000005
YMax: 1475000.0000000002
Spatial Reference: PROJCS["NAD83_Georgia_West",GEOGCS["GCS_North_American_1983",DATUM["D_North_American_1983",SPHEROID["GRS_1980",6378137.0,298.257222101]],PRIMEM["Greenwich",0.0],UNIT["Degree",0.0174532925199433]],PROJECTION["Transverse_Mercator"],PARAMETER["False_Easting",2296583.33333333],PARAMETER["False_Northing",0.0],PARAMETER["Central_Meridian",-84.1666666666667],PARAMETER["Scale_Factor",0.9999],PARAMETER["Latitude_Of_Origin",30.0],UNIT["Foot_US",0.3048006096012192]]
Initial Extent:
XMin: 2145000.0000000005
YMin: 1415000.0000000002
XMax: 2215000.0000000005
YMax: 1475000.0000000002
Spatial Reference: PROJCS["NAD83_Georgia_West",GEOGCS["GCS_North_American_1983",DATUM["D_North_American_1983",SPHEROID["GRS_1980",6378137.0,298.257222101]],PRIMEM["Greenwich",0.0],UNIT["Degree",0.0174532925199433]],PROJECTION["Transverse_Mercator"],PARAMETER["False_Easting",2296583.33333333],PARAMETER["False_Northing",0.0],PARAMETER["Central_Meridian",-84.1666666666667],PARAMETER["Scale_Factor",0.9999],PARAMETER["Latitude_Of_Origin",30.0],UNIT["Foot_US",0.3048006096012192]]
Full Extent:
XMin: 2145000.0000000005
YMin: 1415000.0000000002
XMax: 2215000.0000000005
YMax: 1475000.0000000002
Spatial Reference: PROJCS["NAD83_Georgia_West",GEOGCS["GCS_North_American_1983",DATUM["D_North_American_1983",SPHEROID["GRS_1980",6378137.0,298.257222101]],PRIMEM["Greenwich",0.0],UNIT["Degree",0.0174532925199433]],PROJECTION["Transverse_Mercator"],PARAMETER["False_Easting",2296583.33333333],PARAMETER["False_Northing",0.0],PARAMETER["Central_Meridian",-84.1666666666667],PARAMETER["Scale_Factor",0.9999],PARAMETER["Latitude_Of_Origin",30.0],UNIT["Foot_US",0.3048006096012192]]
Pixel Size X: 0.5
Pixel Size Y: 0.5
Band Count: 1
Pixel Type: U8
RasterFunction Infos: {"rasterFunctionInfos": [{
"name": "None",
"description": "",
"help": ""
}]}
Mensuration Capabilities: Basic
Inspection Capabilities:
Has Histograms: true
Has Colormap: false
Has Multi Dimensions : false
Rendering Rule:
Min Scale: 0
Max Scale: 0
Copyright Text:
Service Data Type: esriImageServiceDataTypeGeneric
Min Values: 36
Max Values: 255
Mean Values: 172.2172735175
Standard Deviation Values: 70.590066837075
Object ID Field:
Fields:
None
Default Mosaic Method: Center
Allowed Mosaic Methods:
SortField:
SortValue: null
Mosaic Operator: First
Default Compression Quality: 90
Default Resampling Method: Bicubic
Max Record Count: null
Max Image Height: 4100
Max Image Width: 15000
Max Download Image Count: null
Max Mosaic Image Count: null
Allow Raster Function: true
Allow Copy: true
Allow Analysis: true
Allow Compute TiePoints: false
Supports Statistics: false
Supports Advanced Queries: false
Use StandardizedQueries: true
Raster Type Infos:
Name: Raster Dataset
Description: Supports all ArcGIS Raster Datasets
Help:
Has Raster Attribute Table: false
Edit Fields Info: null
Ownership Based AccessControl For Rasters: null
Child Resources:
Info
Histograms
Statistics
Key Properties
Legend
Raster Function Infos
Supported Operations:
Export Image
Identify
Measure
Compute Histograms
Compute Statistics Histograms
Get Samples
Compute Class Statistics
Query Boundary
Compute Pixel Location
Compute Angles
Validate
Project