View In:
ArcGIS JavaScript
ArcGIS Online Map Viewer
ArcGIS Earth
Service Description: Imagery/2020_Aerial_Imagery
Name: Imagery/2020_Aerial_Imagery
Description:
Single Fused Map Cache: false
Extent:
XMin: 2157500
YMin: 1410000
XMax: 2217500
YMax: 1470000
Spatial Reference: 102667
(2240)
Initial Extent:
XMin: 2157500
YMin: 1410000
XMax: 2217500
YMax: 1470000
Spatial Reference: 102667
(2240)
Full Extent:
XMin: 2157500
YMin: 1410000
XMax: 2217500
YMax: 1470000
Spatial Reference: 102667
(2240)
Pixel Size X: 0.25
Pixel Size Y: 0.25
Band Count: 4
Pixel Type: U8
RasterFunction Infos: {"rasterFunctionInfos": [{
"name": "None",
"description": "",
"help": ""
}]}
Mensuration Capabilities: Basic
Inspection Capabilities:
Has Histograms: true
Has Colormap: false
Has Multi Dimensions : false
Rendering Rule:
Min Scale: 288382.88168565964
Max Scale: 281.623907896152
Min LOD: 10
Max LOD: 20
Resampling: false
Copyright Text:
Service Data Type: esriImageServiceDataTypeGeneric
Min Values: 51, 50, 27, 0
Max Values: 255, 255, 255, 255
Mean Values: 141.445848894, 137.42832519391, 119.79948290721, 219.20195346165
Standard Deviation Values: 48.728769469447, 49.800216686835, 56.426047981902, 87.728189796063
Object ID Field:
Fields:
None
Default Mosaic Method: Center
Allowed Mosaic Methods:
SortField:
SortValue: null
Mosaic Operator: First
Default Compression Quality: 90
Default Resampling Method: Bicubic
Max Record Count: null
Max Image Height: 4100
Max Image Width: 15000
Max Download Image Count: null
Max Mosaic Image Count: null
Allow Raster Function: true
Allow Copy: true
Allow Analysis: true
Allow Compute TiePoints: false
Supports Statistics: false
Supports Advanced Queries: false
Use StandardizedQueries: true
Raster Type Infos:
Name: Raster Dataset
Description: Supports all ArcGIS Raster Datasets
Help:
Has Raster Attribute Table: false
Edit Fields Info: null
Ownership Based AccessControl For Rasters: null
Child Resources:
Info
Histograms
Statistics
Key Properties
Legend
Raster Function Infos
Supported Operations:
Export Image
Identify
Measure
Compute Histograms
Compute Statistics Histograms
Get Samples
Compute Class Statistics
Query Boundary
Compute Pixel Location
Compute Angles
Validate
Project